BEGIN:VCALENDAR
VERSION:2.0
PRODID:-//Kaua‘i Festivals &amp; Events - ECPv6.0.12//NONSGML v1.0//EN
CALSCALE:GREGORIAN
METHOD:PUBLISH
X-ORIGINAL-URL:https://kauaifestivals.com
X-WR-CALDESC:Events for Kaua‘i Festivals &amp; Events
REFRESH-INTERVAL;VALUE=DURATION:PT1H
X-Robots-Tag:noindex
X-PUBLISHED-TTL:PT1H
BEGIN:VTIMEZONE
TZID:Pacific/Honolulu
BEGIN:STANDARD
TZOFFSETFROM:-1000
TZOFFSETTO:-1000
TZNAME:HST
DTSTART:20250101T000000
END:STANDARD
END:VTIMEZONE
BEGIN:VEVENT
DTSTART;TZID=Pacific/Honolulu:20251105T080000
DTEND;TZID=Pacific/Honolulu:20251126T170000
DTSTAMP:20260419T034416
CREATED:20251106T010855Z
LAST-MODIFIED:20251106T010855Z
UID:10015766-1762329600-1764176400@kauaifestivals.com
SUMMARY:Pumpkin Drop
DESCRIPTION:Got Pumpkins? We’ll Take ‘Em!\nDonate your leftover\, non-bleached pumpkins to the Kaua‘i Animal Education Farm! \nThey make great treats for our farm animals and help reduce waste \n\n\n Drop off anytime from Halloween through November at KAEF\nMahalo for helping feed our furry and feathered friends! \n\n\n#KauaiAnimalEducationFarm #PumpkinDonations #FeedTheAnimals #KAEOFarm #AlohaForAnimals
URL:https://kauaifestivals.com/festival/pumpkin-drop/
LOCATION:Kauai Animal Education Farm\, 1234 Uilama St\, Kapaa\, HI\, 96746\, United States
CATEGORIES:Island Happenings
ATTACH;FMTTYPE=image/jpeg:https://kauaifestivals.com/wp-content/uploads/2025/11/560037372_10239688651022284_7708508323402113985_n.jpg
ORGANIZER;CN="Kauai%20Animal%20Education%20Center":MAILTO:info@kauaianimaleducationcenter.org
GEO:22.0947394;-159.3245926
X-APPLE-STRUCTURED-LOCATION;VALUE=URI;X-ADDRESS=Kauai Animal Education Farm 1234 Uilama St Kapaa HI 96746 United States;X-APPLE-RADIUS=500;X-TITLE=1234 Uilama St:geo:-159.3245926,22.0947394
END:VEVENT
BEGIN:VEVENT
DTSTART;VALUE=DATE:20251108
DTEND;VALUE=DATE:20251115
DTSTAMP:20260419T034416
CREATED:20251007T020654Z
LAST-MODIFIED:20251007T020654Z
UID:10015723-1762560000-1763164799@kauaifestivals.com
SUMMARY:ART EXHIBIT - WINGS AND WOODLANDS: A TRIBUTE TO NATIVE BIRDS AND FORESTS
DESCRIPTION:🌿 Wings and Woodlands: 2025 Art Exhibit\nKaua‘i Society of Artists Gallery | Kukui Grove Center📅 Exhibit Dates: November 8–14\, 2025🎉 Opening Reception: November 7\, 2025 \nCelebrate Hawai‘i’s manu (native birds) through the eyes of local artists! The Kaua‘i Forest Bird Recovery Project and Birds Not Mosquitoes have joined forces with the Kaua‘i Endangered Seabird Recovery Project and Trees for Honolulu’s Future to present Wings and Woodlands\, a weeklong community art exhibit dedicated to the beauty and importance of Hawai‘i’s forest and seabirds. \nVisitors will experience a vibrant mix of paintings\, sculptures\, photographs\, featherwork\, and mixed media pieces — all inspired by the native birds that call Hawai‘i home. From the crimson ‘i‘iwi to the elusive puaiohi\, each artwork tells a story of resilience\, connection\, and hope for our island ecosystems. \nThis exhibit isn’t just about art — it’s about awareness\, conservation\, and celebrating the deep bond between our native forests\, birds\, and people. \n✨ Why You Should Come: \n\n\nImmerse yourself in stunning art that captures the spirit of Hawai‘i’s unique wildlife. \n\n\nLearn how artists and conservationists are working together to protect endangered species. \n\n\nMeet the artists\, conservation teams\, and community partners at the opening reception. \n\n\nSupport local creativity and conservation — proceeds from artwork sales help protect native birds and their habitats. \n\n\nWhether you’re an art lover\, nature enthusiast\, or simply looking for an inspiring local event\, Wings and Woodlands offers something for everyone. Come see how creativity takes flight — and leave with a deeper appreciation for the beautiful birds that make our islands unique. \n🐦 Mahalo to all the artists and community members helping to celebrate and protect Hawai‘i’s incredible manu!
URL:https://kauaifestivals.com/festival/art-exhibit-wings-and-woodlands-a-tribute-to-native-birds-and-forests/
LOCATION:Kauai Society of Artists\, 2600 Kaumualii Hwy #3\, Lihue\, 96766
CATEGORIES:Island Happenings
ATTACH;FMTTYPE=image/jpeg:https://kauaifestivals.com/wp-content/uploads/2025/10/10.jpg
ORGANIZER;CN="Kauai%20Forest%20Bird%20Recovery%20Project":MAILTO:mindy.gipson@librarieshawaii.org
GEO:21.969756;-159.3786872
X-APPLE-STRUCTURED-LOCATION;VALUE=URI;X-ADDRESS=Kauai Society of Artists 2600 Kaumualii Hwy #3 Lihue 96766;X-APPLE-RADIUS=500;X-TITLE=2600 Kaumualii Hwy #3:geo:-159.3786872,21.969756
END:VEVENT
BEGIN:VEVENT
DTSTART;TZID=Pacific/Honolulu:20251114T150000
DTEND;TZID=Pacific/Honolulu:20251114T190000
DTSTAMP:20260419T034416
CREATED:20250918T193630Z
LAST-MODIFIED:20250918T193800Z
UID:10015488-1763132400-1763146800@kauaifestivals.com
SUMMARY:Kauai Beach Resort Kauai Made Craft Fair Fridays
DESCRIPTION:🌺 Kaua‘i Beach Resort Craft FairJoin us every Friday at the beautiful Kaua‘i Beach Resort for our weekly Craft Fair. \nDiscover unique handmade items\, local crafts\, jewelry\, art\, and island-inspired treasures created by talented Kaua‘i artisans. It’s the perfect place to find gifts\, keepsakes\, or something special just for you—all while supporting our local makers. \n🗓️ Every Friday📍 Kaua‘i Beach Resort \nCome shop\, connect\, and experience the creativity of Kaua‘i! 🌴✨
URL:https://kauaifestivals.com/festival/kauai-beach-resort-kauai-made-craft-fair-fridays/2025-11-14/
LOCATION:Outrigger Kaua’i Beach Resort & Spa\, 4331 Kauai Beach Dr.\, Lihue\, HI\, 96766\, United States
CATEGORIES:Island Happenings
ATTACH;FMTTYPE=image/jpeg:https://kauaifestivals.com/wp-content/uploads/2025/09/25-0264-KBR-Kauai-Made-Weekly-Craft-Fair-2-No-Date-V.jpg
ORGANIZER;CN="Kauai%20Made":MAILTO:kauaimade@kauai.gov
GEO:22.0099781;-159.3371893
X-APPLE-STRUCTURED-LOCATION;VALUE=URI;X-ADDRESS=Outrigger Kaua’i Beach Resort & Spa 4331 Kauai Beach Dr. Lihue HI 96766 United States;X-APPLE-RADIUS=500;X-TITLE=4331 Kauai Beach Dr.:geo:-159.3371893,22.0099781
END:VEVENT
BEGIN:VEVENT
DTSTART;TZID=Pacific/Honolulu:20251114T180000
DTEND;TZID=Pacific/Honolulu:20251114T213000
DTSTAMP:20260419T034416
CREATED:20251105T170237Z
LAST-MODIFIED:20251105T170237Z
UID:10015763-1763143200-1763155800@kauaifestivals.com
SUMMARY:Film Screening - "Shaka" (Feature Film) & "Jerry Santos" Short Film - Home in the Islands: Kauai @ Anaina Hou
DESCRIPTION:Evening Film Screening\nFollowed by a Talk Story Panel with the Filmmakers\nFriday\, November 14\, 2025 | 6:00 PM – 9:30 PM\nVenue: Porter Pavilion\, Anaina Hou Community Park \nJoin us for an evening of film\, conversation\, and community celebrating the stories and people behind Hawai‘i’s vibrant music scene. The night begins with light music and refreshments\, followed by a special screening of the Home in the Islands Trailer\, Jerry Santos Mini Documentary\, and selections from the acclaimed Shaka Film. After the screenings\, enjoy a lively Talk Story panel with featured artists and filmmakers including Henry Kapono\, Brother Noland\, Kimié Miner\, Kalena and Kalaʻe Parish\, Tavana\, Steve Sue (Producer of Shaka)\, and Home in the Islands producers Kevin and Franz. Moderated by Alx Kawakami\, this intimate discussion explores the intersection of music\, storytelling\, and aloha in Hawai‘i \n  \nFor tickets\, visit https://www.homeintheisland.com/hitikauai
URL:https://kauaifestivals.com/festival/film-screening-shaka-feature-film-jerry-santos-short-film-home-in-the-islands-kauai-anaina-hou/
LOCATION:Anaina Hou Community Park\, 5-2723 Kuhio Hwy.\, Kilauea\, HI\, 96754\, United States
CATEGORIES:Island Happenings
ATTACH;FMTTYPE=image/png:https://kauaifestivals.com/wp-content/uploads/2025/11/D2.-4-of-5-Day-2B-Screening-16x9-WITH-URL.png
ORGANIZER;CN="Anaina%20Hou%20Community%20Park":MAILTO:community@anainahou.org
GEO:22.2109807;-159.4160277
X-APPLE-STRUCTURED-LOCATION;VALUE=URI;X-ADDRESS=Anaina Hou Community Park 5-2723 Kuhio Hwy. Kilauea HI 96754 United States;X-APPLE-RADIUS=500;X-TITLE=5-2723 Kuhio Hwy.:geo:-159.4160277,22.2109807
END:VEVENT
BEGIN:VEVENT
DTSTART;TZID=Pacific/Honolulu:20251114T183000
DTEND;TZID=Pacific/Honolulu:20251114T233000
DTSTAMP:20260419T034417
CREATED:20251028T234708Z
LAST-MODIFIED:20251028T234708Z
UID:10015737-1763145000-1763163000@kauaifestivals.com
SUMMARY:Mike Campese Live in Kauai\, HI
DESCRIPTION:Guitar Virtuoso Mike Campese Returns to Kauai! \nJoin Mike Campese for two live shows on November 14th and 21st\, celebrating the anniversary of his album “Reset”. \nExperience his incredible guitar work and versatility firsthand! \nVisit www.mikecampese.com for full details.
URL:https://kauaifestivals.com/festival/mike-campese-live-in-kauai-hi/2025-11-14/
LOCATION:Paniolo\, 4-1345 Kuhio Hwy\, Kapaa\, HI\, 96746\, United States
CATEGORIES:Island Happenings
ATTACH;FMTTYPE=image/jpeg:https://kauaifestivals.com/wp-content/uploads/2025/10/Mike-Campese-Live-in-kauai_Nov-2025.-Smaller.jpg
GEO:22.0754031;-159.3189022
X-APPLE-STRUCTURED-LOCATION;VALUE=URI;X-ADDRESS=Paniolo 4-1345 Kuhio Hwy Kapaa HI 96746 United States;X-APPLE-RADIUS=500;X-TITLE=4-1345 Kuhio Hwy:geo:-159.3189022,22.0754031
END:VEVENT
END:VCALENDAR