BEGIN:VCALENDAR
VERSION:2.0
PRODID:-//Kaua‘i Festivals &amp; Events - ECPv6.0.12//NONSGML v1.0//EN
CALSCALE:GREGORIAN
METHOD:PUBLISH
X-ORIGINAL-URL:https://kauaifestivals.com
X-WR-CALDESC:Events for Kaua‘i Festivals &amp; Events
REFRESH-INTERVAL;VALUE=DURATION:PT1H
X-Robots-Tag:noindex
X-PUBLISHED-TTL:PT1H
BEGIN:VTIMEZONE
TZID:Pacific/Honolulu
BEGIN:STANDARD
TZOFFSETFROM:-1000
TZOFFSETTO:-1000
TZNAME:HST
DTSTART:20250101T000000
END:STANDARD
END:VTIMEZONE
BEGIN:VEVENT
DTSTART;TZID=Pacific/Honolulu:20251105T080000
DTEND;TZID=Pacific/Honolulu:20251126T170000
DTSTAMP:20260419T035626
CREATED:20251106T010855Z
LAST-MODIFIED:20251106T010855Z
UID:10015766-1762329600-1764176400@kauaifestivals.com
SUMMARY:Pumpkin Drop
DESCRIPTION:Got Pumpkins? We’ll Take ‘Em!\nDonate your leftover\, non-bleached pumpkins to the Kaua‘i Animal Education Farm! \nThey make great treats for our farm animals and help reduce waste \n\n\n Drop off anytime from Halloween through November at KAEF\nMahalo for helping feed our furry and feathered friends! \n\n\n#KauaiAnimalEducationFarm #PumpkinDonations #FeedTheAnimals #KAEOFarm #AlohaForAnimals
URL:https://kauaifestivals.com/festival/pumpkin-drop/
LOCATION:Kauai Animal Education Farm\, 1234 Uilama St\, Kapaa\, HI\, 96746\, United States
CATEGORIES:Island Happenings
ATTACH;FMTTYPE=image/jpeg:https://kauaifestivals.com/wp-content/uploads/2025/11/560037372_10239688651022284_7708508323402113985_n.jpg
ORGANIZER;CN="Kauai%20Animal%20Education%20Center":MAILTO:info@kauaianimaleducationcenter.org
GEO:22.0947394;-159.3245926
X-APPLE-STRUCTURED-LOCATION;VALUE=URI;X-ADDRESS=Kauai Animal Education Farm 1234 Uilama St Kapaa HI 96746 United States;X-APPLE-RADIUS=500;X-TITLE=1234 Uilama St:geo:-159.3245926,22.0947394
END:VEVENT
BEGIN:VEVENT
DTSTART;VALUE=DATE:20251108
DTEND;VALUE=DATE:20251115
DTSTAMP:20260419T035626
CREATED:20251007T020654Z
LAST-MODIFIED:20251007T020654Z
UID:10015723-1762560000-1763164799@kauaifestivals.com
SUMMARY:ART EXHIBIT - WINGS AND WOODLANDS: A TRIBUTE TO NATIVE BIRDS AND FORESTS
DESCRIPTION:🌿 Wings and Woodlands: 2025 Art Exhibit\nKaua‘i Society of Artists Gallery | Kukui Grove Center📅 Exhibit Dates: November 8–14\, 2025🎉 Opening Reception: November 7\, 2025 \nCelebrate Hawai‘i’s manu (native birds) through the eyes of local artists! The Kaua‘i Forest Bird Recovery Project and Birds Not Mosquitoes have joined forces with the Kaua‘i Endangered Seabird Recovery Project and Trees for Honolulu’s Future to present Wings and Woodlands\, a weeklong community art exhibit dedicated to the beauty and importance of Hawai‘i’s forest and seabirds. \nVisitors will experience a vibrant mix of paintings\, sculptures\, photographs\, featherwork\, and mixed media pieces — all inspired by the native birds that call Hawai‘i home. From the crimson ‘i‘iwi to the elusive puaiohi\, each artwork tells a story of resilience\, connection\, and hope for our island ecosystems. \nThis exhibit isn’t just about art — it’s about awareness\, conservation\, and celebrating the deep bond between our native forests\, birds\, and people. \n✨ Why You Should Come: \n\n\nImmerse yourself in stunning art that captures the spirit of Hawai‘i’s unique wildlife. \n\n\nLearn how artists and conservationists are working together to protect endangered species. \n\n\nMeet the artists\, conservation teams\, and community partners at the opening reception. \n\n\nSupport local creativity and conservation — proceeds from artwork sales help protect native birds and their habitats. \n\n\nWhether you’re an art lover\, nature enthusiast\, or simply looking for an inspiring local event\, Wings and Woodlands offers something for everyone. Come see how creativity takes flight — and leave with a deeper appreciation for the beautiful birds that make our islands unique. \n🐦 Mahalo to all the artists and community members helping to celebrate and protect Hawai‘i’s incredible manu!
URL:https://kauaifestivals.com/festival/art-exhibit-wings-and-woodlands-a-tribute-to-native-birds-and-forests/
LOCATION:Kauai Society of Artists\, 2600 Kaumualii Hwy #3\, Lihue\, 96766
CATEGORIES:Island Happenings
ATTACH;FMTTYPE=image/jpeg:https://kauaifestivals.com/wp-content/uploads/2025/10/10.jpg
ORGANIZER;CN="Kauai%20Forest%20Bird%20Recovery%20Project":MAILTO:mindy.gipson@librarieshawaii.org
GEO:21.969756;-159.3786872
X-APPLE-STRUCTURED-LOCATION;VALUE=URI;X-ADDRESS=Kauai Society of Artists 2600 Kaumualii Hwy #3 Lihue 96766;X-APPLE-RADIUS=500;X-TITLE=2600 Kaumualii Hwy #3:geo:-159.3786872,21.969756
END:VEVENT
BEGIN:VEVENT
DTSTART;TZID=Pacific/Honolulu:20251110T080000
DTEND;TZID=Pacific/Honolulu:20251110T160000
DTSTAMP:20260419T035626
CREATED:20251103T040026Z
LAST-MODIFIED:20251103T040450Z
UID:10015742-1762761600-1762790400@kauaifestivals.com
SUMMARY:Kaua’i Hospice 5th Annual Lanterns of Love
DESCRIPTION:Kaua’i Hospice 5th Annual Lanterns of Love\nA tribute to our loved ones remembered with light and love\nTo order your wooden heart(s) and reserve a lantern in memory of your loved one\, please visit www.kauaihospice.org beginning November 10\, 2025 (while supplies last) \nLANTERNS WILL BE ILLUMINATED: December 15\, 2025 – January 15\, 2026 \nWALKING HOURS: Daily from 6:00pm – 9:00pm \nAll reserved lanterns will be beautifully designed and placed on the property by Kaua’i Hospice staff. \nPlease join us as we remember our loved ones at this heartfelt annual community event \nFor more information\, call (808) 245-7277 or visit kauaihospice.org
URL:https://kauaifestivals.com/festival/kauai-hospice-5th-annual-lanterns-of-love/2025-11-10/
LOCATION:Kaua’i Hospice\, 4457 Pahe'e Street\, Lihue\, 96766
CATEGORIES:Island Happenings
ATTACH;FMTTYPE=image/png:https://kauaifestivals.com/wp-content/uploads/2025/10/Lanterns-of-Love.png
ORGANIZER;CN="Kaua%27i%20Hospice":MAILTO:info@kauaihospice.org
GEO:21.969594;-159.3847506
X-APPLE-STRUCTURED-LOCATION;VALUE=URI;X-ADDRESS=Kaua’i Hospice 4457 Pahe'e Street Lihue 96766;X-APPLE-RADIUS=500;X-TITLE=4457 Pahe'e Street:geo:-159.3847506,21.969594
END:VEVENT
END:VCALENDAR