BEGIN:VCALENDAR
VERSION:2.0
PRODID:-//Kaua‘i Festivals &amp; Events - ECPv6.0.12//NONSGML v1.0//EN
CALSCALE:GREGORIAN
METHOD:PUBLISH
X-ORIGINAL-URL:https://kauaifestivals.com
X-WR-CALDESC:Events for Kaua‘i Festivals &amp; Events
REFRESH-INTERVAL;VALUE=DURATION:PT1H
X-Robots-Tag:noindex
X-PUBLISHED-TTL:PT1H
BEGIN:VTIMEZONE
TZID:Pacific/Honolulu
BEGIN:STANDARD
TZOFFSETFROM:-1000
TZOFFSETTO:-1000
TZNAME:HST
DTSTART:20250101T000000
END:STANDARD
END:VTIMEZONE
BEGIN:VEVENT
DTSTART;TZID=Pacific/Honolulu:20251105T080000
DTEND;TZID=Pacific/Honolulu:20251126T170000
DTSTAMP:20260419T035633
CREATED:20251106T010855Z
LAST-MODIFIED:20251106T010855Z
UID:10015766-1762329600-1764176400@kauaifestivals.com
SUMMARY:Pumpkin Drop
DESCRIPTION:Got Pumpkins? We’ll Take ‘Em!\nDonate your leftover\, non-bleached pumpkins to the Kaua‘i Animal Education Farm! \nThey make great treats for our farm animals and help reduce waste \n\n\n Drop off anytime from Halloween through November at KAEF\nMahalo for helping feed our furry and feathered friends! \n\n\n#KauaiAnimalEducationFarm #PumpkinDonations #FeedTheAnimals #KAEOFarm #AlohaForAnimals
URL:https://kauaifestivals.com/festival/pumpkin-drop/
LOCATION:Kauai Animal Education Farm\, 1234 Uilama St\, Kapaa\, HI\, 96746\, United States
CATEGORIES:Island Happenings
ATTACH;FMTTYPE=image/jpeg:https://kauaifestivals.com/wp-content/uploads/2025/11/560037372_10239688651022284_7708508323402113985_n.jpg
ORGANIZER;CN="Kauai%20Animal%20Education%20Center":MAILTO:info@kauaianimaleducationcenter.org
GEO:22.0947394;-159.3245926
X-APPLE-STRUCTURED-LOCATION;VALUE=URI;X-ADDRESS=Kauai Animal Education Farm 1234 Uilama St Kapaa HI 96746 United States;X-APPLE-RADIUS=500;X-TITLE=1234 Uilama St:geo:-159.3245926,22.0947394
END:VEVENT
BEGIN:VEVENT
DTSTART;VALUE=DATE:20251108
DTEND;VALUE=DATE:20251115
DTSTAMP:20260419T035633
CREATED:20251007T020654Z
LAST-MODIFIED:20251007T020654Z
UID:10015723-1762560000-1763164799@kauaifestivals.com
SUMMARY:ART EXHIBIT - WINGS AND WOODLANDS: A TRIBUTE TO NATIVE BIRDS AND FORESTS
DESCRIPTION:🌿 Wings and Woodlands: 2025 Art Exhibit\nKaua‘i Society of Artists Gallery | Kukui Grove Center📅 Exhibit Dates: November 8–14\, 2025🎉 Opening Reception: November 7\, 2025 \nCelebrate Hawai‘i’s manu (native birds) through the eyes of local artists! The Kaua‘i Forest Bird Recovery Project and Birds Not Mosquitoes have joined forces with the Kaua‘i Endangered Seabird Recovery Project and Trees for Honolulu’s Future to present Wings and Woodlands\, a weeklong community art exhibit dedicated to the beauty and importance of Hawai‘i’s forest and seabirds. \nVisitors will experience a vibrant mix of paintings\, sculptures\, photographs\, featherwork\, and mixed media pieces — all inspired by the native birds that call Hawai‘i home. From the crimson ‘i‘iwi to the elusive puaiohi\, each artwork tells a story of resilience\, connection\, and hope for our island ecosystems. \nThis exhibit isn’t just about art — it’s about awareness\, conservation\, and celebrating the deep bond between our native forests\, birds\, and people. \n✨ Why You Should Come: \n\n\nImmerse yourself in stunning art that captures the spirit of Hawai‘i’s unique wildlife. \n\n\nLearn how artists and conservationists are working together to protect endangered species. \n\n\nMeet the artists\, conservation teams\, and community partners at the opening reception. \n\n\nSupport local creativity and conservation — proceeds from artwork sales help protect native birds and their habitats. \n\n\nWhether you’re an art lover\, nature enthusiast\, or simply looking for an inspiring local event\, Wings and Woodlands offers something for everyone. Come see how creativity takes flight — and leave with a deeper appreciation for the beautiful birds that make our islands unique. \n🐦 Mahalo to all the artists and community members helping to celebrate and protect Hawai‘i’s incredible manu!
URL:https://kauaifestivals.com/festival/art-exhibit-wings-and-woodlands-a-tribute-to-native-birds-and-forests/
LOCATION:Kauai Society of Artists\, 2600 Kaumualii Hwy #3\, Lihue\, 96766
CATEGORIES:Island Happenings
ATTACH;FMTTYPE=image/jpeg:https://kauaifestivals.com/wp-content/uploads/2025/10/10.jpg
ORGANIZER;CN="Kauai%20Forest%20Bird%20Recovery%20Project":MAILTO:mindy.gipson@librarieshawaii.org
GEO:21.969756;-159.3786872
X-APPLE-STRUCTURED-LOCATION;VALUE=URI;X-ADDRESS=Kauai Society of Artists 2600 Kaumualii Hwy #3 Lihue 96766;X-APPLE-RADIUS=500;X-TITLE=2600 Kaumualii Hwy #3:geo:-159.3786872,21.969756
END:VEVENT
BEGIN:VEVENT
DTSTART;TZID=Pacific/Honolulu:20251108T100000
DTEND;TZID=Pacific/Honolulu:20251109T180000
DTSTAMP:20260419T035633
CREATED:20251106T010830Z
LAST-MODIFIED:20251106T010830Z
UID:10015765-1762596000-1762711200@kauaifestivals.com
SUMMARY:Hanapepe’s Biggest Little Carnival
DESCRIPTION:Hanapepe Pop Warner and Hanapepe Youth Baseball presents the 6th annual Hanapepe’s Biggest Little Carnival happening in November 8th and 9th. Fun and Kwazy rides\, huge craft fair\, live entertainment and food booths all weekend. Happening at the Hanapepe stadium.
URL:https://kauaifestivals.com/festival/hanapepes-biggest-little-carnival/
LOCATION:Hanapepe Stadium\, 4451 Puolo Rd.\, hanapepe\, HI\, 96705\, United States
CATEGORIES:Island Happenings
ATTACH;FMTTYPE=image/jpeg:https://kauaifestivals.com/wp-content/uploads/2025/11/IMG_3344.jpeg
ORGANIZER;CN="hanapepe%20yourh%20baseball%20association":MAILTO:Alden.pablo@yahoo.com
GEO:21.9064294;-159.5931116
X-APPLE-STRUCTURED-LOCATION;VALUE=URI;X-ADDRESS=Hanapepe Stadium 4451 Puolo Rd. hanapepe HI 96705 United States;X-APPLE-RADIUS=500;X-TITLE=4451 Puolo Rd.:geo:-159.5931116,21.9064294
END:VEVENT
BEGIN:VEVENT
DTSTART;TZID=Pacific/Honolulu:20251109T130000
DTEND;TZID=Pacific/Honolulu:20251109T160000
DTSTAMP:20260419T035633
CREATED:20250915T193654Z
LAST-MODIFIED:20250915T193654Z
UID:10015477-1762693200-1762704000@kauaifestivals.com
SUMMARY:Princeville Fine Arts Exhibit
DESCRIPTION:16th Annual Princeville Fine Arts Exhibit \nTalented Northshore Kauai artists display stunning new artworks never exhibited on the island before. \nWorks of art include water colors\, oil paintings\, sculpture\, mosaics\, ceramics. \nOpen to the public free of charge\,  meet the artists and be inspired by these new works of art. \nNovember 7 – 9 at the Princeville Community Center
URL:https://kauaifestivals.com/festival/princeville-fine-arts-exhibit/2025-11-09/
LOCATION:Princeville Community Center\, 4334 Emmalani Rd.\, Princeville\, HI\, 96722\, United States
CATEGORIES:Island Happenings
ATTACH;FMTTYPE=image/jpeg:https://kauaifestivals.com/wp-content/uploads/2025/09/Canoe-2.jpg
ORGANIZER;CN="Princeville%20Community%20Association":MAILTO:April@princevillecommunity.com
GEO:22.214834;-159.4716673
X-APPLE-STRUCTURED-LOCATION;VALUE=URI;X-ADDRESS=Princeville Community Center 4334 Emmalani Rd. Princeville HI 96722 United States;X-APPLE-RADIUS=500;X-TITLE=4334 Emmalani Rd.:geo:-159.4716673,22.214834
END:VEVENT
BEGIN:VEVENT
DTSTART;TZID=Pacific/Honolulu:20251109T160000
DTEND;TZID=Pacific/Honolulu:20251109T190000
DTSTAMP:20260419T035633
CREATED:20251104T004624Z
LAST-MODIFIED:20251104T004624Z
UID:10015759-1762704000-1762714800@kauaifestivals.com
SUMMARY:Babes Giving Nourishing Neighbors
DESCRIPTION:The Babes & The Sheraton Kauai Coconut Beach Resort present BABES GIVING NOURISHING NEIGHBORS. \nEMERGENCY FUNDRAISING SHOW & TELETHON FOR HAWAII FOOD BANK \nPerformances by: The Babes\, Fabulous Live Music Lineup(you will not be disappointed)!!!\, Lucky Drawings and Grand Prize \nText for tickets (808)639-8722 – text Terence how many tickets you would like \nTickets are $10 +1 non perishable food item and also available at Hair Razors Salon or any of The Babes.
URL:https://kauaifestivals.com/festival/babes-giving-nourishing-neighbors/
LOCATION:United States
CATEGORIES:Featured Events
ATTACH;FMTTYPE=image/jpeg:https://kauaifestivals.com/wp-content/uploads/2025/11/babes.jpg
END:VEVENT
BEGIN:VEVENT
DTSTART;TZID=Pacific/Honolulu:20251109T160000
DTEND;TZID=Pacific/Honolulu:20251109T200000
DTSTAMP:20260419T035633
CREATED:20240918T232428Z
LAST-MODIFIED:20251004T210544Z
UID:10015712-1762704000-1762718400@kauaifestivals.com
SUMMARY:Princeville Night Market
DESCRIPTION:Connect with 45 of Kauai’s best artisans at this monthly market. Food trucks\, restaurants\, and several musicians make it a market to remember! \nOur exact vendor line-up changes regularly\, but you’re sure to find paintings\, ceramics\, photography\, jewelry\, soaps & more\, plus meet the local artists who make it all. Three different music tents create a lively atmosphere\, and the food trucks and dessert options aren’t to be missed. \nThis free and family friendly event has been proudly running since 2015. You’ll find us on the Second Sunday of each month from 4-8pm\, only at the Princeville Shopping Center. Our open-air outdoor market is a rain or shine event. We hope to see you there! \nFollow us on instagram! @PrincevilleNightMarket
URL:https://kauaifestivals.com/festival/princeville-night-market/2025-11-09/
LOCATION:Princeville Shopping Center\, 5-4280 Kuhio Hwy\, Princeville\, HI\, 96722\, United States
CATEGORIES:Island Happenings
ATTACH;FMTTYPE=image/jpeg:https://kauaifestivals.com/wp-content/uploads/2024/09/Julie.jpg
ORGANIZER;CN="Princeville%20Night%20Market":MAILTO:PrincevilleNightMarket@gmail.com
GEO:19.8967662;-155.5827818
X-APPLE-STRUCTURED-LOCATION;VALUE=URI;X-ADDRESS=Princeville Shopping Center 5-4280 Kuhio Hwy Princeville HI 96722 United States;X-APPLE-RADIUS=500;X-TITLE=5-4280 Kuhio Hwy:geo:-155.5827818,19.8967662
END:VEVENT
END:VCALENDAR